BEGIN:VCALENDAR
VERSION:2.0
PRODID:-//IAICR l Instituto de Auditores Internos de Costa Rica - ECPv6.15.20//NONSGML v1.0//EN
CALSCALE:GREGORIAN
METHOD:PUBLISH
X-WR-CALNAME:IAICR l Instituto de Auditores Internos de Costa Rica
X-ORIGINAL-URL:https://www.iaicr.com/htdocs
X-WR-CALDESC:Eventos para IAICR l Instituto de Auditores Internos de Costa Rica
REFRESH-INTERVAL;VALUE=DURATION:PT1H
X-Robots-Tag:noindex
X-PUBLISHED-TTL:PT1H
BEGIN:VTIMEZONE
TZID:UTC
BEGIN:STANDARD
TZOFFSETFROM:+0000
TZOFFSETTO:+0000
TZNAME:UTC
DTSTART:20210101T000000
END:STANDARD
END:VTIMEZONE
BEGIN:VEVENT
DTSTART;TZID=UTC:20221204T170000
DTEND;TZID=UTC:20221204T220000
DTSTAMP:20260425T160236
CREATED:20221117T030527Z
LAST-MODIFIED:20221128T233050Z
UID:9959-1670173200-1670191200@www.iaicr.com
SUMMARY:Actividad 45 Aniversario
DESCRIPTION:La inscripción a esta actividad se encuentra cerrada. Por favor póngase en contacto con la administración para verificar si hay cupos disponibles. WhatsApp +506 22410278.\nEsta actividad es exclusiva para asociados al día con su membresía y compromisos con el Instituto.
URL:https://www.iaicr.com/htdocs/event/actividad-45-aniversario/
LOCATION:Arde Rooftop\, Hotel Sheraton
CATEGORIES:Actividades Sociales
END:VEVENT
END:VCALENDAR