BEGIN:VCALENDAR
VERSION:2.0
PRODID:-//IAICR l Instituto de Auditores Internos de Costa Rica - ECPv6.15.20//NONSGML v1.0//EN
CALSCALE:GREGORIAN
METHOD:PUBLISH
X-WR-CALNAME:IAICR l Instituto de Auditores Internos de Costa Rica
X-ORIGINAL-URL:https://www.iaicr.com/htdocs
X-WR-CALDESC:Eventos para IAICR l Instituto de Auditores Internos de Costa Rica
REFRESH-INTERVAL;VALUE=DURATION:PT1H
X-Robots-Tag:noindex
X-PUBLISHED-TTL:PT1H
BEGIN:VTIMEZONE
TZID:America/Chicago
BEGIN:DAYLIGHT
TZOFFSETFROM:-0600
TZOFFSETTO:-0500
TZNAME:CDT
DTSTART:20250309T080000
END:DAYLIGHT
BEGIN:STANDARD
TZOFFSETFROM:-0500
TZOFFSETTO:-0600
TZNAME:CST
DTSTART:20251102T070000
END:STANDARD
BEGIN:DAYLIGHT
TZOFFSETFROM:-0600
TZOFFSETTO:-0500
TZNAME:CDT
DTSTART:20260308T080000
END:DAYLIGHT
BEGIN:STANDARD
TZOFFSETFROM:-0500
TZOFFSETTO:-0600
TZNAME:CST
DTSTART:20261101T070000
END:STANDARD
BEGIN:DAYLIGHT
TZOFFSETFROM:-0600
TZOFFSETTO:-0500
TZNAME:CDT
DTSTART:20270314T080000
END:DAYLIGHT
BEGIN:STANDARD
TZOFFSETFROM:-0500
TZOFFSETTO:-0600
TZNAME:CST
DTSTART:20271107T070000
END:STANDARD
END:VTIMEZONE
BEGIN:VEVENT
DTSTART;TZID=America/Chicago:20260429T180000
DTEND;TZID=America/Chicago:20260429T190000
DTSTAMP:20260423T043938
CREATED:20231004T150746Z
LAST-MODIFIED:20260415T170620Z
UID:17788-1777485600-1777489200@www.iaicr.com
SUMMARY:Webinar - Requerimientos Temáticos del IIA: cumplimiento obligatorio Implicaciones del Marco Internacional Para la Práctica Profesional de Auditoría Interna
DESCRIPTION:Facilitador: \nEdwin Arley Giraldo Zapata \n\n\n\n\n\n\n\n\n\n\n\n\nMáster en gestión de riesgos\, especialista en finanzas y mercado de capitales\, con una trayectoria de más de 20 años liderando áreas de auditoría\, control interno y gestión de riesgos para empresas públicas y privadas del sector financiero\, servicios\, manufacturero y petrolero\, con amplio conocimiento en normas y estándares internacionales. Con una visión constante de anticipar los riesgos y apoyar a la organización en su gestión oportuna\, siendo ese asesor de confianza de la alta gerencia. Experiencias que las comparto como conferencista internacional y profesor invitado en diferentes universidades\, que me han permitido estar actualizado ya la vanguardia de los últimos estándares y metodologías\, orientado al logro\, adaptabilidad al cambio\, proactividad y liderazgo de\nequipos de alto desempeño. \n\n\n  \n\n\n\n\n	SELECCIÓN DE CHARLA\n	 \n\n\n	Seleccione la charla:\n—Please choose an option—Requerimientos Temáticos del IIA: cumplimiento obligatorio Implicaciones del Marco Internacional Para la Práctica Profesional de Auditoría Interna\n	 \n\n\n	DATOS GENERALES\n	 \n\n\n	Nombre Completo:\n	 \n	\n	 \n\n\n	Cédula:\n	 \n	\n	 \n\n\n	Correo Electrónico:\n	 \n	\n	 \n\n\n	Afiliado IAICR:\n	 \n\n\n	SiNo\n	 \n\n\n	Teléfono:\n	 \n	\n	 \n\n\n	Institución / Empresa:\n	 \n	\n	 \n\n\n	País:\n	 \n	\n	 \n\n\n	\n	 \nΔ ×
URL:https://www.iaicr.com/htdocs/event/requerimientos-tematicos-del-iia-cumplimiento-obligatorio/
LOCATION:Virtual por Microsoft Teams
CATEGORIES:Event
ATTACH;FMTTYPE=image/jpeg:https://www.iaicr.com/htdocs/wp-content/uploads/2023/10/Webinar-Abril-Edwin-Giraldo.jpeg
END:VEVENT
END:VCALENDAR